BEGIN:VCALENDAR
VERSION:2.0
PRODID:-//ChamberMaster//Event Calendar 2.0//EN
METHOD:PUBLISH
X-PUBLISHED-TTL:P1H
REFRESH-INTERVAL:P1H
CALSCALE:GREGORIAN
BEGIN:VTIMEZONE
TZID:America/New_York
BEGIN:DAYLIGHT
RRULE:FREQ=YEARLY;BYMONTH=3;BYDAY=2SU
DTSTART:20070101T000000
TZOFFSETFROM:-0500
TZOFFSETTO:-0400
TZNAME:Eastern Daylight Time
END:DAYLIGHT
BEGIN:STANDARD
RRULE:FREQ=YEARLY;BYMONTH=11;BYDAY=1SU
DTSTART:20070101T000000
TZOFFSETFROM:-0400
TZOFFSETTO:-0500
TZNAME:Eastern Standard Time
END:STANDARD
END:VTIMEZONE
BEGIN:VEVENT
DTSTART;TZID=America/New_York:20260521T160000
DTEND;TZID=America/New_York:20260521T180000
X-MICROSOFT-CDO-ALLDAYEVENT:FALSE
SUMMARY:Destination Connection: Where Business Meets Hospitality
DESCRIPTION:Kick off the summer with Destination Connection: Where Business Meets Hospitality\, a fresh networking experience co-hosted by Greater Lafayette Commerce and Visit Lafayette-West Lafayette. Designed to bring professionals together in a relaxed\, welcoming setting\, this inaugural event takes place on May 21 from 4 6 PM at The Arts Federation. Enjoy a delicious grazing table\, live music\, and the opportunity to make meaningful connections while unwinding in a beautiful artistic atmosphere.
X-ALT-DESC;FMTTYPE=text/html:<!DOCTYPE html><html><head><title></title></head><body aria-disabled="false"><p>Kick off the summer with Destination Connection: Where Business Meets Hospitality\, a fresh networking experience co-hosted by Greater Lafayette Commerce and Visit Lafayette-West Lafayette. Designed to bring professionals together in a relaxed\, welcoming setting\, this inaugural event takes place on May 21 from 4&ndash\;6 PM at The Arts Federation. Enjoy a delicious grazing table\, live music\, and the opportunity to make meaningful connections while unwinding in a beautiful artistic atmosphere.</p></body></html>
LOCATION:638 North Street Lafayette IN 47901-1153
UID:e.3863.1450290
SEQUENCE:3
DTSTAMP:20260423T233411Z
URL:https://greaterlafayettecommerce.growthzoneapp.com/events/Details/destination-connection-where-business-meets-hospitality-1717870?sourceTypeId=Hub
END:VEVENT
END:VCALENDAR
